BEGIN:VCALENDAR
VERSION:2.0
PRODID:-//Next Level Calling - ECPv6.15.15//NONSGML v1.0//EN
CALSCALE:GREGORIAN
METHOD:PUBLISH
X-WR-CALNAME:Next Level Calling
X-ORIGINAL-URL:https://nextlevelcalling.org
X-WR-CALDESC:Events for Next Level Calling
REFRESH-INTERVAL;VALUE=DURATION:PT1H
X-Robots-Tag:noindex
X-PUBLISHED-TTL:PT1H
BEGIN:VTIMEZONE
TZID:UTC
BEGIN:STANDARD
TZOFFSETFROM:+0000
TZOFFSETTO:+0000
TZNAME:UTC
DTSTART:20210101T000000
END:STANDARD
END:VTIMEZONE
BEGIN:VEVENT
DTSTART;TZID=UTC:20220927T190000
DTEND;TZID=UTC:20220927T203000
DTSTAMP:20260421T171655
CREATED:20220926T050616Z
LAST-MODIFIED:20220926T050616Z
UID:685-1664305200-1664310600@nextlevelcalling.org
SUMMARY:Bible Study
DESCRIPTION:
URL:https://nextlevelcalling.org/event/bible-study/
END:VEVENT
END:VCALENDAR