BEGIN:VCALENDAR
VERSION:2.0
PRODID:-//Next Level Calling - ECPv6.15.15//NONSGML v1.0//EN
CALSCALE:GREGORIAN
METHOD:PUBLISH
X-WR-CALNAME:Next Level Calling
X-ORIGINAL-URL:https://nextlevelcalling.org
X-WR-CALDESC:Events for Next Level Calling
REFRESH-INTERVAL;VALUE=DURATION:PT1H
X-Robots-Tag:noindex
X-PUBLISHED-TTL:PT1H
BEGIN:VTIMEZONE
TZID:America/Los_Angeles
BEGIN:DAYLIGHT
TZOFFSETFROM:-0800
TZOFFSETTO:-0700
TZNAME:PDT
DTSTART:20240310T100000
END:DAYLIGHT
BEGIN:STANDARD
TZOFFSETFROM:-0700
TZOFFSETTO:-0800
TZNAME:PST
DTSTART:20241103T090000
END:STANDARD
BEGIN:DAYLIGHT
TZOFFSETFROM:-0800
TZOFFSETTO:-0700
TZNAME:PDT
DTSTART:20250309T100000
END:DAYLIGHT
BEGIN:STANDARD
TZOFFSETFROM:-0700
TZOFFSETTO:-0800
TZNAME:PST
DTSTART:20251102T090000
END:STANDARD
BEGIN:DAYLIGHT
TZOFFSETFROM:-0800
TZOFFSETTO:-0700
TZNAME:PDT
DTSTART:20260308T100000
END:DAYLIGHT
BEGIN:STANDARD
TZOFFSETFROM:-0700
TZOFFSETTO:-0800
TZNAME:PST
DTSTART:20261101T090000
END:STANDARD
END:VTIMEZONE
BEGIN:VTIMEZONE
TZID:UTC
BEGIN:STANDARD
TZOFFSETFROM:+0000
TZOFFSETTO:+0000
TZNAME:UTC
DTSTART:20210101T000000
END:STANDARD
END:VTIMEZONE
BEGIN:VEVENT
DTSTART;TZID=America/Los_Angeles:20251025T150000
DTEND;TZID=America/Los_Angeles:20251025T180000
DTSTAMP:20260421T211846
CREATED:20250220T182314Z
LAST-MODIFIED:20250220T182314Z
UID:4556-1761404400-1761415200@nextlevelcalling.org
SUMMARY:Mentorship Day
DESCRIPTION:Student and Mentors both past & present will have an opportunity to meet in person\, create connection groups\, attend live in person seminar sessions\, ask questions\, learn\, and fellowship with industry leaders on this special day. This will foster community\, increase awareness\, and develop lasting relationships meant to jointly create an atmosphere where success leads to significance in an Godly environment. Please mark your calendars to attend. Individual invitations will be sent.
URL:https://nextlevelcalling.org/event/mentorship-day-4/
END:VEVENT
BEGIN:VEVENT
DTSTART;TZID=America/Los_Angeles:20250927T150000
DTEND;TZID=America/Los_Angeles:20250927T180000
DTSTAMP:20260421T211846
CREATED:20250220T182145Z
LAST-MODIFIED:20250220T182145Z
UID:4554-1758985200-1758996000@nextlevelcalling.org
SUMMARY:Mentorship Day
DESCRIPTION:Student and Mentors both past & present will have an opportunity to meet in person\, create connection groups\, attend live in person seminar sessions\, ask questions\, learn\, and fellowship with industry leaders on this special day. This will foster community\, increase awareness\, and develop lasting relationships meant to jointly create an atmosphere where success leads to significance in an Godly environment. Please mark your calendars to attend. Individual invitations will be sent.
URL:https://nextlevelcalling.org/event/mentorship-day-3/
END:VEVENT
BEGIN:VEVENT
DTSTART;TZID=America/Los_Angeles:20250823T150000
DTEND;TZID=America/Los_Angeles:20250823T180000
DTSTAMP:20260421T211846
CREATED:20250220T182038Z
LAST-MODIFIED:20250220T182038Z
UID:4552-1755961200-1755972000@nextlevelcalling.org
SUMMARY:Mentorship Day
DESCRIPTION:Student and Mentors both past & present will have an opportunity to meet in person\, create connection groups\, attend live in person seminar sessions\, ask questions\, learn\, and fellowship with industry leaders on this special day. This will foster community\, increase awareness\, and develop lasting relationships meant to jointly create an atmosphere where success leads to significance in an Godly environment. Please mark your calendars to attend. Individual invitations will be sent.
URL:https://nextlevelcalling.org/event/mentorship-day-2/
END:VEVENT
BEGIN:VEVENT
DTSTART;TZID=America/Los_Angeles:20250726T150000
DTEND;TZID=America/Los_Angeles:20250726T180000
DTSTAMP:20260421T211846
CREATED:20250220T181924Z
LAST-MODIFIED:20250220T181924Z
UID:4550-1753542000-1753552800@nextlevelcalling.org
SUMMARY:Mentorship Day
DESCRIPTION:Student and Mentors both past & present will have an opportunity to meet in person\, create connection groups\, attend live in person seminar sessions\, ask questions\, learn\, and fellowship with industry leaders on this special day. This will foster community\, increase awareness\, and develop lasting relationships meant to jointly create an atmosphere where success leads to significance in an Godly environment. Please mark your calendars to attend. Individual invitations will be sent.
URL:https://nextlevelcalling.org/event/mentorship-day/
END:VEVENT
BEGIN:VEVENT
DTSTART;TZID=America/Los_Angeles:20250712T090000
DTEND;TZID=America/Los_Angeles:20250712T110000
DTSTAMP:20260421T211846
CREATED:20250220T181250Z
LAST-MODIFIED:20250428T203330Z
UID:4548-1752310800-1752318000@nextlevelcalling.org
SUMMARY:Classes Start-Denarius Business Mentorship Program
DESCRIPTION:The Year 2025 Denarius Business Mentorship Program classes begin. Students will receive a detailed individual session detail listing. Check with your instructors and NLC Administrative staff for further information.
URL:https://nextlevelcalling.org/event/classes-start-denarius-business-mentorship-program/
END:VEVENT
BEGIN:VEVENT
DTSTART;VALUE=DATE:20250630
DTEND;VALUE=DATE:20250701
DTSTAMP:20260421T211846
CREATED:20250220T180834Z
LAST-MODIFIED:20250428T203436Z
UID:4546-1751241600-1751327999@nextlevelcalling.org
SUMMARY:Registration Closed-Denarius Business Mentorship Program
DESCRIPTION:Registration for the Year 2025 Denarius Business Mentorship Program is officially closed. Year 2026 class schedule will be provided in late December 2025. Check back for updates.
URL:https://nextlevelcalling.org/event/registration-closed-denarius-business-mentorship-program/
END:VEVENT
BEGIN:VEVENT
DTSTART;TZID=UTC:20250625T190000
DTEND;TZID=UTC:20250625T200000
DTSTAMP:20260421T211846
CREATED:20250220T180551Z
LAST-MODIFIED:20250428T203511Z
UID:4544-1750878000-1750881600@nextlevelcalling.org
SUMMARY:Open Forum # 2 - Informational Meeting
DESCRIPTION:Join us! Get Information\, Answers to Questions\, Meet with Mentors\, and Register for Program. This Informational meeting is designed to give you further information and make the connection\, if you have an interest in the Denarius Business Mentorship Program. Your one stop event for all your questions to be answered in person. Event registration link will be provided. Check for updates.
URL:https://nextlevelcalling.org/event/open-forum-2-informational-meeting/
END:VEVENT
BEGIN:VEVENT
DTSTART;TZID=America/Los_Angeles:20250624T190000
DTEND;TZID=America/Los_Angeles:20250624T200000
DTSTAMP:20260421T211846
CREATED:20250220T180256Z
LAST-MODIFIED:20250428T203534Z
UID:4541-1750791600-1750795200@nextlevelcalling.org
SUMMARY:Open Forum # 1-Informational Meeting
DESCRIPTION:Join us! Get Information\, Answers to Questions\, Meet with Mentors\, and Register for Program. This Informational meeting is designed to give you further information and make the connection\, if you have an interest in the Denarius Business Mentorship Program. Your one stop event for all your questions to be answered in person. Event registration link will be provided.
URL:https://nextlevelcalling.org/event/open-forum-1-informational-meeting/
END:VEVENT
BEGIN:VEVENT
DTSTART;TZID=America/Los_Angeles:20250617T190000
DTEND;TZID=America/Los_Angeles:20250617T200000
DTSTAMP:20260421T211846
CREATED:20250428T203912Z
LAST-MODIFIED:20250428T203912Z
UID:4761-1750186800-1750190400@nextlevelcalling.org
SUMMARY:Deep Dive Bible Study
DESCRIPTION:Join us for life impacting messages of God’s Word. The Deep Dive Bible studies and Christian Apologetics sessions are relevant to today’s world and extremely thought provoking. These messages will inspire\, excite\, and help reverse the spiritual drought that so many people face today.
URL:https://nextlevelcalling.org/event/deep-dive-bible-study-6/
END:VEVENT
BEGIN:VEVENT
DTSTART;TZID=America/Los_Angeles:20250527T190000
DTEND;TZID=America/Los_Angeles:20250527T200000
DTSTAMP:20260421T211846
CREATED:20250428T203829Z
LAST-MODIFIED:20250428T203829Z
UID:4759-1748372400-1748376000@nextlevelcalling.org
SUMMARY:Deep Dive Bible Study
DESCRIPTION:Join us for life impacting messages of God’s Word. The Deep Dive Bible studies and Christian Apologetics sessions are relevant to today’s world and extremely thought provoking. These messages will inspire\, excite\, and help reverse the spiritual drought that so many people face today.
URL:https://nextlevelcalling.org/event/deep-dive-bible-study-4/
END:VEVENT
BEGIN:VEVENT
DTSTART;TZID=America/Los_Angeles:20250506T190000
DTEND;TZID=America/Los_Angeles:20250506T200000
DTSTAMP:20260421T211846
CREATED:20250220T174739Z
LAST-MODIFIED:20250428T203647Z
UID:4535-1746558000-1746561600@nextlevelcalling.org
SUMMARY:Deep Dive Bible Study
DESCRIPTION:Join us for life impacting messages of God’s Word. The Deep Dive Bible studies and Christian Apologetics sessions are relevant to today’s world and extremely thought provoking. These messages will inspire\, excite\, and help reverse the spiritual drought that so many people face today.
URL:https://nextlevelcalling.org/event/deep-dive-bible-study-5/
END:VEVENT
BEGIN:VEVENT
DTSTART;VALUE=DATE:20250426
DTEND;VALUE=DATE:20250531
DTSTAMP:20260421T211846
CREATED:20250220T175531Z
LAST-MODIFIED:20250220T175531Z
UID:4538-1745625600-1748649599@nextlevelcalling.org
SUMMARY:Registration Open-Denarius Business Mentorship Program
DESCRIPTION:The Denarius Mentorship Program is a 6-month data-driven entrepreneurship business mentorship program taught by professionals at Next Level Calling. Our team is made up of connectors and doers who dream big\, solve problems together\, and take calculated risks to drive results. We provide the opportunities and support you along the way through philosophical\, spiritual and physical elements to help you fulfill your Calling.
URL:https://nextlevelcalling.org/event/registration-open-denarius-business-mentorship-program/
END:VEVENT
BEGIN:VEVENT
DTSTART;TZID=America/Los_Angeles:20250325T190000
DTEND;TZID=America/Los_Angeles:20250325T200000
DTSTAMP:20260421T211846
CREATED:20250220T174458Z
LAST-MODIFIED:20250220T174458Z
UID:4531-1742929200-1742932800@nextlevelcalling.org
SUMMARY:Deep Dive Bible Study
DESCRIPTION:Join us for life impacting messages of God’s Word. The Deep Dive Bible studies and Christian Apologetics sessions are relevant to today’s world and extremely thought provoking. These messages will inspire\, excite\, and help reverse the spiritual drought that so many people face today.
URL:https://nextlevelcalling.org/event/deep-dive-bible-study-3/
END:VEVENT
BEGIN:VEVENT
DTSTART;TZID=America/Los_Angeles:20250311T190000
DTEND;TZID=America/Los_Angeles:20250311T200000
DTSTAMP:20260421T211846
CREATED:20250220T174336Z
LAST-MODIFIED:20250220T174336Z
UID:4529-1741719600-1741723200@nextlevelcalling.org
SUMMARY:Deep Dive Bible Study
DESCRIPTION:Join us for life impacting messages of God’s Word. The Deep Dive Bible studies and Christian Apologetics sessions are relevant to today’s world and extremely thought provoking. These messages will inspire\, excite\, and help reverse the spiritual drought that so many people face today.
URL:https://nextlevelcalling.org/event/deep-dive-bible-study-2/
END:VEVENT
BEGIN:VEVENT
DTSTART;TZID=America/Los_Angeles:20250225T190000
DTEND;TZID=America/Los_Angeles:20250225T200000
DTSTAMP:20260421T211846
CREATED:20250220T171610Z
LAST-MODIFIED:20250220T171610Z
UID:4526-1740510000-1740513600@nextlevelcalling.org
SUMMARY:Deep Dive Bible Study
DESCRIPTION:Join us for life impacting messages of God’s Word. The Deep Dive Bible studies and Christian Apologetics sessions are relevant to today’s world and extremely thought provoking. These messages will inspire\, excite\, and help reverse the spiritual drought that so many people face today.
URL:https://nextlevelcalling.org/event/deep-dive-bible-study/
END:VEVENT
BEGIN:VEVENT
DTSTART;TZID=UTC:20221029T090000
DTEND;TZID=UTC:20221029T120000
DTSTAMP:20260421T211846
CREATED:20220926T051017Z
LAST-MODIFIED:20220926T051023Z
UID:696-1667034000-1667044800@nextlevelcalling.org
SUMMARY:Denarius Mentorship Class – Wrap Up
DESCRIPTION:
URL:https://nextlevelcalling.org/event/denarius-mentorship-class-wrap-up/
END:VEVENT
BEGIN:VEVENT
DTSTART;TZID=UTC:20221018T190000
DTEND;TZID=UTC:20221018T203000
DTSTAMP:20260421T211846
CREATED:20220926T050942Z
LAST-MODIFIED:20220926T050942Z
UID:694-1666119600-1666125000@nextlevelcalling.org
SUMMARY:Bible Study
DESCRIPTION:
URL:https://nextlevelcalling.org/event/bible-study-2/
END:VEVENT
BEGIN:VEVENT
DTSTART;TZID=UTC:20221015T090000
DTEND;TZID=UTC:20221015T120000
DTSTAMP:20260421T211846
CREATED:20220926T050907Z
LAST-MODIFIED:20220926T050907Z
UID:692-1665824400-1665835200@nextlevelcalling.org
SUMMARY:Denarius Mentorship Class
DESCRIPTION:
URL:https://nextlevelcalling.org/event/denarius-mentorship-class-2/
END:VEVENT
BEGIN:VEVENT
DTSTART;TZID=UTC:20221004T190000
DTEND;TZID=UTC:20221004T203000
DTSTAMP:20260421T211846
CREATED:20220926T050829Z
LAST-MODIFIED:20220926T050829Z
UID:690-1664910000-1664915400@nextlevelcalling.org
SUMMARY:Christian Apologetics Session
DESCRIPTION:
URL:https://nextlevelcalling.org/event/christian-apologetics-session/
END:VEVENT
BEGIN:VEVENT
DTSTART;TZID=UTC:20221001T090000
DTEND;TZID=UTC:20221001T120000
DTSTAMP:20260421T211846
CREATED:20220926T050731Z
LAST-MODIFIED:20220926T050731Z
UID:688-1664614800-1664625600@nextlevelcalling.org
SUMMARY:Denarius Mentorship Class
DESCRIPTION:
URL:https://nextlevelcalling.org/event/denarius-mentorship-class/
END:VEVENT
BEGIN:VEVENT
DTSTART;TZID=UTC:20220927T190000
DTEND;TZID=UTC:20220927T203000
DTSTAMP:20260421T211846
CREATED:20220926T050616Z
LAST-MODIFIED:20220926T050616Z
UID:685-1664305200-1664310600@nextlevelcalling.org
SUMMARY:Bible Study
DESCRIPTION:
URL:https://nextlevelcalling.org/event/bible-study/
END:VEVENT
END:VCALENDAR