BEGIN:VCALENDAR
VERSION:2.0
PRODID:-//Next Level Calling - ECPv6.15.15//NONSGML v1.0//EN
CALSCALE:GREGORIAN
METHOD:PUBLISH
X-WR-CALNAME:Next Level Calling
X-ORIGINAL-URL:https://nextlevelcalling.org
X-WR-CALDESC:Events for Next Level Calling
REFRESH-INTERVAL;VALUE=DURATION:PT1H
X-Robots-Tag:noindex
X-PUBLISHED-TTL:PT1H
BEGIN:VTIMEZONE
TZID:America/Los_Angeles
BEGIN:DAYLIGHT
TZOFFSETFROM:-0800
TZOFFSETTO:-0700
TZNAME:PDT
DTSTART:20240310T100000
END:DAYLIGHT
BEGIN:STANDARD
TZOFFSETFROM:-0700
TZOFFSETTO:-0800
TZNAME:PST
DTSTART:20241103T090000
END:STANDARD
BEGIN:DAYLIGHT
TZOFFSETFROM:-0800
TZOFFSETTO:-0700
TZNAME:PDT
DTSTART:20250309T100000
END:DAYLIGHT
BEGIN:STANDARD
TZOFFSETFROM:-0700
TZOFFSETTO:-0800
TZNAME:PST
DTSTART:20251102T090000
END:STANDARD
BEGIN:DAYLIGHT
TZOFFSETFROM:-0800
TZOFFSETTO:-0700
TZNAME:PDT
DTSTART:20260308T100000
END:DAYLIGHT
BEGIN:STANDARD
TZOFFSETFROM:-0700
TZOFFSETTO:-0800
TZNAME:PST
DTSTART:20261101T090000
END:STANDARD
END:VTIMEZONE
BEGIN:VEVENT
DTSTART;TZID=America/Los_Angeles:20250823T150000
DTEND;TZID=America/Los_Angeles:20250823T180000
DTSTAMP:20260421T111531
CREATED:20250220T182038Z
LAST-MODIFIED:20250220T182038Z
UID:4552-1755961200-1755972000@nextlevelcalling.org
SUMMARY:Mentorship Day
DESCRIPTION:Student and Mentors both past & present will have an opportunity to meet in person\, create connection groups\, attend live in person seminar sessions\, ask questions\, learn\, and fellowship with industry leaders on this special day. This will foster community\, increase awareness\, and develop lasting relationships meant to jointly create an atmosphere where success leads to significance in an Godly environment. Please mark your calendars to attend. Individual invitations will be sent.
URL:https://nextlevelcalling.org/event/mentorship-day-2/
END:VEVENT
END:VCALENDAR