BEGIN:VCALENDAR
VERSION:2.0
PRODID:-//Next Level Calling - ECPv6.15.15//NONSGML v1.0//EN
CALSCALE:GREGORIAN
METHOD:PUBLISH
X-WR-CALNAME:Next Level Calling
X-ORIGINAL-URL:https://nextlevelcalling.org
X-WR-CALDESC:Events for Next Level Calling
REFRESH-INTERVAL;VALUE=DURATION:PT1H
X-Robots-Tag:noindex
X-PUBLISHED-TTL:PT1H
BEGIN:VTIMEZONE
TZID:America/Los_Angeles
BEGIN:DAYLIGHT
TZOFFSETFROM:-0800
TZOFFSETTO:-0700
TZNAME:PDT
DTSTART:20240310T100000
END:DAYLIGHT
BEGIN:STANDARD
TZOFFSETFROM:-0700
TZOFFSETTO:-0800
TZNAME:PST
DTSTART:20241103T090000
END:STANDARD
BEGIN:DAYLIGHT
TZOFFSETFROM:-0800
TZOFFSETTO:-0700
TZNAME:PDT
DTSTART:20250309T100000
END:DAYLIGHT
BEGIN:STANDARD
TZOFFSETFROM:-0700
TZOFFSETTO:-0800
TZNAME:PST
DTSTART:20251102T090000
END:STANDARD
BEGIN:DAYLIGHT
TZOFFSETFROM:-0800
TZOFFSETTO:-0700
TZNAME:PDT
DTSTART:20260308T100000
END:DAYLIGHT
BEGIN:STANDARD
TZOFFSETFROM:-0700
TZOFFSETTO:-0800
TZNAME:PST
DTSTART:20261101T090000
END:STANDARD
END:VTIMEZONE
BEGIN:VEVENT
DTSTART;TZID=America/Los_Angeles:20250712T090000
DTEND;TZID=America/Los_Angeles:20250712T110000
DTSTAMP:20260421T095712
CREATED:20250220T181250Z
LAST-MODIFIED:20250428T203330Z
UID:4548-1752310800-1752318000@nextlevelcalling.org
SUMMARY:Classes Start-Denarius Business Mentorship Program
DESCRIPTION:The Year 2025 Denarius Business Mentorship Program classes begin. Students will receive a detailed individual session detail listing. Check with your instructors and NLC Administrative staff for further information.
URL:https://nextlevelcalling.org/event/classes-start-denarius-business-mentorship-program/
END:VEVENT
END:VCALENDAR